BEGIN:VCALENDAR
VERSION:2.0
PRODID:-//PeopleTek Coaching - ECPv6.15.20//NONSGML v1.0//EN
CALSCALE:GREGORIAN
METHOD:PUBLISH
X-ORIGINAL-URL:https://peopletekcoaching.com
X-WR-CALDESC:Events for PeopleTek Coaching
REFRESH-INTERVAL;VALUE=DURATION:PT1H
X-Robots-Tag:noindex
X-PUBLISHED-TTL:PT1H
BEGIN:VTIMEZONE
TZID:America/New_York
BEGIN:DAYLIGHT
TZOFFSETFROM:-0500
TZOFFSETTO:-0400
TZNAME:EDT
DTSTART:20250309T070000
END:DAYLIGHT
BEGIN:STANDARD
TZOFFSETFROM:-0400
TZOFFSETTO:-0500
TZNAME:EST
DTSTART:20251102T060000
END:STANDARD
BEGIN:DAYLIGHT
TZOFFSETFROM:-0500
TZOFFSETTO:-0400
TZNAME:EDT
DTSTART:20260308T070000
END:DAYLIGHT
BEGIN:STANDARD
TZOFFSETFROM:-0400
TZOFFSETTO:-0500
TZNAME:EST
DTSTART:20261101T060000
END:STANDARD
BEGIN:DAYLIGHT
TZOFFSETFROM:-0500
TZOFFSETTO:-0400
TZNAME:EDT
DTSTART:20270314T070000
END:DAYLIGHT
BEGIN:STANDARD
TZOFFSETFROM:-0400
TZOFFSETTO:-0500
TZNAME:EST
DTSTART:20271107T060000
END:STANDARD
END:VTIMEZONE
BEGIN:VEVENT
DTSTART;TZID=America/New_York:20260630T160000
DTEND;TZID=America/New_York:20260630T170000
DTSTAMP:20260423T062229
CREATED:20260406T203919Z
LAST-MODIFIED:20260406T203919Z
UID:93045-1782835200-1782838800@peopletekcoaching.com
SUMMARY:Your Journey Continues - June
DESCRIPTION:Your Journey ContinuesPeopleTek Coaching | June 30 \nLeadership growth doesn’t stop; it evolves. Your Journey Continues is a PeopleTek Coaching event designed to help you reflect\, refocus\, and move forward with intention. \nWe will build on the foundations you’ve already established\, deepening your self-awareness\, strengthening key leadership skills\, and exploring practical strategies you can apply immediately in your role. Through guided coaching conversations and meaningful reflection\, you’ll gain clarity on where you are\, where you’re going\, and how to lead with greater confidence and impact. \nThis session is an opportunity to pause\, reconnect with your leadership goals\, and continue shaping the leader you aspire to be.
URL:https://peopletekcoaching.com/event/your-journey-continues-june/
CATEGORIES:Your Journey Continues
ATTACH;FMTTYPE=image/png:https://peopletekcoaching.com/wp-content/uploads/2026/02/Compass-cover.png
END:VEVENT
BEGIN:VEVENT
DTSTART;TZID=America/New_York:20260708T120000
DTEND;TZID=America/New_York:20260708T140000
DTSTAMP:20260423T062229
CREATED:20260406T202439Z
LAST-MODIFIED:20260406T202439Z
UID:93033-1783512000-1783519200@peopletekcoaching.com
SUMMARY:Leadership Journey #258
DESCRIPTION:Welcome to Leadership Journey #258\n\n\n\n\nAre you ready to take your leadership to the next level?Join us for a transformative 12-session experience designed to help you grow\, connect\, and lead with greater impact. \n\nProgram Kickoff: July 8\, 2026 | 12:00–2:00 PM (Eastern)\nFormat: 100% Virtual (live via videoconference)\nInvestment in Your Growth: $3\,195\n\n  \nWhat You’ll Gain\n\n12 dynamic group coaching sessions (2 hours each)\n1 personalized individual coaching session (60 minutes)\n25 Professional Credit Hours toward your continuing education\nPractical leadership insights from peers across industries\nExclusive access to QwikCoach\, our online coaching and support platform\n\nSession Dates \n\nJuly 8 & 22\nAugust 5 & 19\nSeptember 2\, 16\, & 30\nOctober 14 & 28\nNovember 11 & 25\nDecember 9\n\n  \nWhy Join The Leadership Journey\n✔ Small group size (6–12 participants) ensures meaningful interaction✔ Learn from diverse leaders and perspectives✔ Convenient bi-weekly sessions designed for busy professionals✔ Accessible from anywhere in the world \nDon’t miss this opportunity to invest in yourself and your leadership journey.
URL:https://peopletekcoaching.com/event/leadership-journey-258/
LOCATION:Virtual Leadership Journey
CATEGORIES:Virtual Leadership Journey
ATTACH;FMTTYPE=image/png:https://peopletekcoaching.com/wp-content/uploads/2025/12/PeopleTek-Social-Media-Posts-27.png
END:VEVENT
BEGIN:VEVENT
DTSTART;TZID=America/New_York:20260728T160000
DTEND;TZID=America/New_York:20260728T170000
DTSTAMP:20260423T062229
CREATED:20260406T204020Z
LAST-MODIFIED:20260406T204020Z
UID:93047-1785254400-1785258000@peopletekcoaching.com
SUMMARY:Your Journey Continues - July
DESCRIPTION:Your Journey ContinuesPeopleTek Coaching | July 28 \nLeadership growth doesn’t stop; it evolves. Your Journey Continues is a PeopleTek Coaching event designed to help you reflect\, refocus\, and move forward with intention. \nWe will build on the foundations you’ve already established\, deepening your self-awareness\, strengthening key leadership skills\, and exploring practical strategies you can apply immediately in your role. Through guided coaching conversations and meaningful reflection\, you’ll gain clarity on where you are\, where you’re going\, and how to lead with greater confidence and impact. \nThis session is an opportunity to pause\, reconnect with your leadership goals\, and continue shaping the leader you aspire to be.
URL:https://peopletekcoaching.com/event/your-journey-continues-july/
CATEGORIES:Your Journey Continues
ATTACH;FMTTYPE=image/png:https://peopletekcoaching.com/wp-content/uploads/2026/02/Compass-cover.png
END:VEVENT
BEGIN:VEVENT
DTSTART;TZID=America/New_York:20260825T160000
DTEND;TZID=America/New_York:20260825T170000
DTSTAMP:20260423T062229
CREATED:20260406T204117Z
LAST-MODIFIED:20260406T204117Z
UID:93049-1787673600-1787677200@peopletekcoaching.com
SUMMARY:Your Journey Continues - August
DESCRIPTION:Your Journey ContinuesPeopleTek Coaching | August 25 \nLeadership growth doesn’t stop; it evolves. Your Journey Continues is a PeopleTek Coaching event designed to help you reflect\, refocus\, and move forward with intention. \nWe will build on the foundations you’ve already established\, deepening your self-awareness\, strengthening key leadership skills\, and exploring practical strategies you can apply immediately in your role. Through guided coaching conversations and meaningful reflection\, you’ll gain clarity on where you are\, where you’re going\, and how to lead with greater confidence and impact. \nThis session is an opportunity to pause\, reconnect with your leadership goals\, and continue shaping the leader you aspire to be.
URL:https://peopletekcoaching.com/event/your-journey-continues-august/
CATEGORIES:Your Journey Continues
ATTACH;FMTTYPE=image/png:https://peopletekcoaching.com/wp-content/uploads/2026/02/Compass-cover.png
END:VEVENT
BEGIN:VEVENT
DTSTART;TZID=America/New_York:20260827T120000
DTEND;TZID=America/New_York:20260827T140000
DTSTAMP:20260423T062229
CREATED:20260406T202716Z
LAST-MODIFIED:20260406T202716Z
UID:93035-1787832000-1787839200@peopletekcoaching.com
SUMMARY:Leadership Journey #259
DESCRIPTION:Welcome to Leadership Journey #259\n\n\n\n\nAre you ready to take your leadership to the next level?Join us for a transformative 12-session experience designed to help you grow\, connect\, and lead with greater impact. \n\nProgram Kickoff: August 27\, 2026 | 12:00–2:00 PM (Eastern)\nFormat: 100% Virtual (live via videoconference)\nInvestment in Your Growth: $3\,195\n\n  \nWhat You’ll Gain\n\n12 dynamic group coaching sessions (2 hours each)\n1 personalized individual coaching session (60 minutes)\n25 Professional Credit Hours toward your continuing education\nPractical leadership insights from peers across industries\nExclusive access to QwikCoach\, our online coaching and support platform\n\nSession Dates \n\nAugust 27\nSeptember 10 & 24\nOctober 8 & 22\nNovember 5 & 19\nDecember 3 & 15\nJanuary 7 & 21\nFebruary 4\n\n  \nWhy Join The Leadership Journey\n✔ Small group size (6–12 participants) ensures meaningful interaction✔ Learn from diverse leaders and perspectives✔ Convenient bi-weekly sessions designed for busy professionals✔ Accessible from anywhere in the world \nDon’t miss this opportunity to invest in yourself and your leadership journey.
URL:https://peopletekcoaching.com/event/leadership-journey-259/
LOCATION:Virtual Leadership Journey
CATEGORIES:Virtual Leadership Journey
ATTACH;FMTTYPE=image/png:https://peopletekcoaching.com/wp-content/uploads/2025/12/PeopleTek-Social-Media-Posts-43.png
END:VEVENT
BEGIN:VEVENT
DTSTART;TZID=America/New_York:20260929T120000
DTEND;TZID=America/New_York:20260929T140000
DTSTAMP:20260423T062229
CREATED:20260406T203038Z
LAST-MODIFIED:20260406T203038Z
UID:93037-1790683200-1790690400@peopletekcoaching.com
SUMMARY:Leadership Journey #260
DESCRIPTION:Welcome to Leadership Journey #260\n\n\n\n\nAre you ready to take your leadership to the next level?Join us for a transformative 12-session experience designed to help you grow\, connect\, and lead with greater impact. \n\nProgram Kickoff: September 29\, 2026 | 12:00–2:00 PM (Eastern)\nFormat: 100% Virtual (live via videoconference)\nInvestment in Your Growth: $3\,195\n\n  \nWhat You’ll Gain\n\n12 dynamic group coaching sessions (2 hours each)\n1 personalized individual coaching session (60 minutes)\n25 Professional Credit Hours toward your continuing education\nPractical leadership insights from peers across industries\nExclusive access to QwikCoach\, our online coaching and support platform\n\nSession Dates \n\nSeptember 29\nOctober 13 & 27\nNovember 10 & 24\nDecember 8 & 15\nJanuary 5 & 19\nFebruary 2 & 16\nMarch 2\n\n  \nWhy Join The Leadership Journey\n✔ Small group size (6–12 participants) ensures meaningful interaction✔ Learn from diverse leaders and perspectives✔ Convenient bi-weekly sessions designed for busy professionals✔ Accessible from anywhere in the world \nDon’t miss this opportunity to invest in yourself and your leadership journey.
URL:https://peopletekcoaching.com/event/leadership-journey-260/
LOCATION:Virtual Leadership Journey
CATEGORIES:Virtual Leadership Journey
ATTACH;FMTTYPE=image/png:https://peopletekcoaching.com/wp-content/uploads/2025/12/PeopleTek-Social-Media-Posts-41.png
END:VEVENT
BEGIN:VEVENT
DTSTART;TZID=America/New_York:20260929T160000
DTEND;TZID=America/New_York:20260929T170000
DTSTAMP:20260423T062229
CREATED:20260406T204220Z
LAST-MODIFIED:20260406T204220Z
UID:93051-1790697600-1790701200@peopletekcoaching.com
SUMMARY:Your Journey Continues - September
DESCRIPTION:Your Journey ContinuesPeopleTek Coaching | September 29 \nLeadership growth doesn’t stop; it evolves. Your Journey Continues is a PeopleTek Coaching event designed to help you reflect\, refocus\, and move forward with intention. \nWe will build on the foundations you’ve already established\, deepening your self-awareness\, strengthening key leadership skills\, and exploring practical strategies you can apply immediately in your role. Through guided coaching conversations and meaningful reflection\, you’ll gain clarity on where you are\, where you’re going\, and how to lead with greater confidence and impact. \nThis session is an opportunity to pause\, reconnect with your leadership goals\, and continue shaping the leader you aspire to be.
URL:https://peopletekcoaching.com/event/your-journey-continues-september/
CATEGORIES:Your Journey Continues
ATTACH;FMTTYPE=image/png:https://peopletekcoaching.com/wp-content/uploads/2026/02/Compass-cover.png
END:VEVENT
BEGIN:VEVENT
DTSTART;TZID=America/New_York:20261027T160000
DTEND;TZID=America/New_York:20261027T170000
DTSTAMP:20260423T062229
CREATED:20260406T204733Z
LAST-MODIFIED:20260406T204733Z
UID:93053-1793116800-1793120400@peopletekcoaching.com
SUMMARY:Your Journey Continues - October
DESCRIPTION:Your Journey ContinuesPeopleTek Coaching | October 27 \nLeadership growth doesn’t stop; it evolves. Your Journey Continues is a PeopleTek Coaching event designed to help you reflect\, refocus\, and move forward with intention. \nWe will build on the foundations you’ve already established\, deepening your self-awareness\, strengthening key leadership skills\, and exploring practical strategies you can apply immediately in your role. Through guided coaching conversations and meaningful reflection\, you’ll gain clarity on where you are\, where you’re going\, and how to lead with greater confidence and impact. \nThis session is an opportunity to pause\, reconnect with your leadership goals\, and continue shaping the leader you aspire to be.
URL:https://peopletekcoaching.com/event/your-journey-continues-october/
CATEGORIES:Your Journey Continues
ATTACH;FMTTYPE=image/png:https://peopletekcoaching.com/wp-content/uploads/2026/02/Compass-cover.png
END:VEVENT
BEGIN:VEVENT
DTSTART;TZID=America/New_York:20261104T120000
DTEND;TZID=America/New_York:20261104T140000
DTSTAMP:20260423T062229
CREATED:20260406T203244Z
LAST-MODIFIED:20260406T203244Z
UID:93039-1793793600-1793800800@peopletekcoaching.com
SUMMARY:Leadership Journey #261
DESCRIPTION:Welcome to Leadership Journey #261\n\n\n\n\nAre you ready to take your leadership to the next level?Join us for a transformative 12-session experience designed to help you grow\, connect\, and lead with greater impact. \n\nProgram Kickoff: November 4\, 2026 | 12:00–2:00 PM (Eastern)\nFormat: 100% Virtual (live via videoconference)\nInvestment in Your Growth: $3\,195\n\n  \nWhat You’ll Gain\n\n12 dynamic group coaching sessions (2 hours each)\n1 personalized individual coaching session (60 minutes)\n25 Professional Credit Hours toward your continuing education\nPractical leadership insights from peers across industries\nExclusive access to QwikCoach\, our online coaching and support platform\n\nSession Dates \n\nNovember 4 & 18\nDecember 2 & 16\nJanuary 6 & 20\nFebruary 3 & 17\nMarch 3 & 17 & 31\nApril 14\n\n  \nWhy Join The Leadership Journey\n✔ Small group size (6–12 participants) ensures meaningful interaction✔ Learn from diverse leaders and perspectives✔ Convenient bi-weekly sessions designed for busy professionals✔ Accessible from anywhere in the world \nDon’t miss this opportunity to invest in yourself and your leadership journey.
URL:https://peopletekcoaching.com/event/leadership-journey-261/
LOCATION:Virtual Leadership Journey
CATEGORIES:Virtual Leadership Journey
ATTACH;FMTTYPE=image/png:https://peopletekcoaching.com/wp-content/uploads/2025/12/PeopleTek-Social-Media-Posts-3.png
END:VEVENT
BEGIN:VEVENT
DTSTART;TZID=America/New_York:20261201T160000
DTEND;TZID=America/New_York:20261201T170000
DTSTAMP:20260423T062229
CREATED:20260406T204828Z
LAST-MODIFIED:20260406T204828Z
UID:93055-1796140800-1796144400@peopletekcoaching.com
SUMMARY:Your Journey Continues - December
DESCRIPTION:Your Journey ContinuesPeopleTek Coaching | December 1 \nLeadership growth doesn’t stop; it evolves. Your Journey Continues is a PeopleTek Coaching event designed to help you reflect\, refocus\, and move forward with intention. \nWe will build on the foundations you’ve already established\, deepening your self-awareness\, strengthening key leadership skills\, and exploring practical strategies you can apply immediately in your role. Through guided coaching conversations and meaningful reflection\, you’ll gain clarity on where you are\, where you’re going\, and how to lead with greater confidence and impact. \nThis session is an opportunity to pause\, reconnect with your leadership goals\, and continue shaping the leader you aspire to be.
URL:https://peopletekcoaching.com/event/your-journey-continues-december/
CATEGORIES:Your Journey Continues
ATTACH;FMTTYPE=image/png:https://peopletekcoaching.com/wp-content/uploads/2026/02/Compass-cover.png
END:VEVENT
END:VCALENDAR